BEGIN:VCALENDAR
PRODID:-//toujou/ical//2.0/EN
VERSION:2.0
CALSCALE:GREGORIAN
BEGIN:VEVENT
UID:269
DTSTAMP:20260422T075256Z
SUMMARY:André Rieu
DTSTART:20270114T193000
DTEND:20270114T235900
LOCATION:ARENA Haupthalle
DESCRIPTION:Einlass: ca.  18:00 Uhr\nTitel: Deutschlandtour 2027
END:VEVENT
END:VCALENDAR
